BEGIN:VCALENDAR
VERSION:2.0
PRODID:icalendar-ruby
CALSCALE:GREGORIAN
METHOD:PUBLISH
BEGIN:VEVENT
DTSTAMP:20260422T203803Z
UID:2-279896@northnovahfellowship.com
DTSTART:20261025T140000Z
DTEND:20261025T153000Z
CLASS:PUBLIC
CREATED:20260422T143114
DESCRIPTION:Join us for Church service at the Habitat For Humanity Communit
 y Center every week @ 10AM.
LAST-MODIFIED:20260422T143114
LOCATION:
SUMMARY:Sunday Service
URL;VALUE=URI:https://www.northnovahfellowship.com/events/sunday-service/20
 26-10-25
ATTACH;FILENAME=Praise.png;FMTTYPE=image/png:https://dq5pwpg1q8ru0.cloudfro
 nt.net/2025/06/26/20/46/03/fb40cf7f-5153-4c6b-aced-8a92acb99a04/Praise.png
END:VEVENT
END:VCALENDAR
